Workbook
Name _Hlk14952534: 'Nevojat Kapitale'!$C$12

Sheet  Plani i Veprimit 2026-2027 
B2: PLANI I VEPRIMIT 2026 - 2027, NË ZBATIM TË STRATEGJISË NDËRSEKTORIALE TË MENAXHIMIT TË INTEGRUAR TË KUFIRIT 2021-2027
B4: I. Qëllimi i Politikës: Mbrojtja e sigurisë së brendshme dhe menaxhimi i flukseve migratore, me qëllim parandalimin e migracionit të paregullt, si dhe parandalimin dhe goditjen e krimit ndërkufitar.
B5: I. Programi buxhetor që kontribuon për qëllimin e politikës: Programi 03140, Policia e Shtetit; Programi 02120 "Forca e luftimit", Forca Detare-Roja Bregdetare; Programi 01150 , Drejtoria e Pergjithshme e Doganave.
B6: Nr. | C6: Titulli | D6: Programi buxhetor | E6: Institucionet përgjegjegjëse | G6: Afati i Zbatimit | I6: Kosto indikative/2026 | L6: Kosto indikative/2027 | O6: Kosto indikative Totale | R6: Burimi i Financimit | Y6: Hendeku financiar | Z6: Treguesit e Performancës | AA6: Komente
D7: Referenca e Rezultatit me produktet e programit buxhetor | E7: Institucioni përgjegjës | F7: Institucioni kontribues/ partnerët kontribues | G7: Afati Fillimit | H7: Afati Mbarimit | R7: PBA 2026-2028 (në lekë) | U7: Financim i Huaj (në lekë)
I8: Korente | J8: Kapitale | K8: Total Kosto | L8: Korente | M8: Kapitale | N8: Total Kosto | O8: Korente | P8: Kapitale | Q8: Total Kosto | R8: Korente | S8: Kapitale | T8: Total BSH | U8: Korente | V8: Kapitale | W8: Emri donatorit/Titullin e projektit | X8: Total Financim i Huaj
B9: 1 | C9: OBJEKTIVI SPECIFIK 1: Rritja e nivelit të përputhshmërisë me standardet evropiane dhe të Shengenit, në aspektin legjislativ, administrativ dhe institucional në fushën e menaxhimit të integruar të kufijve, veçanërisht në fushën e kontrollit dhe mbikqyrjes së kufirit dhe forcimi i bashkëpunimit ndëragjeci dhe bashkëpunimit ndërkombëtar.
B10: Masa 1.1 | C10: Përafrimi i kuadrit ligjor kombëtar me kuadrin ligjor të BE-së për menaxhimin e integruar të kufirit | E10: MPB/PSH | F10: MEPJ MD / FRONTEX, ICMPD, IOM, OSCE | G10: 2026 | H10: 2027
B11: 1.1.1 | C11: Rishikimi dhe harmonizimi i kuadrit ligjor kombëtar në fushën e Menaxhimit të Integruar të Kufirit (MIK) me legjislacionin e Bashkimit Evropian dhe standardet ndërkombëtare, me qëllim garantimin e përputhshmërisë së plotë me acquis të BE-së. | D11: 91604AK | E11: MPB/PSH | F11: MD, MEPJ / FRONTEX, ICMPD, OSCE, IOM | G11: 2026 | H11: 2027 | I11: 750000 | J11: 0 | K11: =I11+J11 -> 750000 | L11: 250000 | M11: 0 | N11: =L11+M11 -> 250000 | O11: =I11+L11 -> 1000000 | P11: =J11+M11 -> 0 | Q11: =O11+P11 -> 1000000 | R11: =O11 -> 1000000 | S11: =P11 -> 0 | T11: =R11+S11 -> 1000000 | U11: 0 | V11: 0 | X11: =U11+V11 -> 0 | Y11: =Q11-T11-X11 -> 0
B12: 1.1.2 | C12: Rishikimi, përditësimi dhe hartimi i akteve nënligjore zbatuese në fushën e Menaxhimit të Integruar të Kufirit, me synim sigurimin e një kuadri rregullator të unifikuar, funksional dhe në përputhje me kërkesat e legjislacionit evropian dhe praktikat më të mira të vendeve të BE-së. | D12: 91604AK | E12: MPB/PSH | F12: MD, MEPJ / FRONTEX, ICMPD, GIZ, OSCE | G12: 2026 | H12: 2027 | I12: 1200000 | J12: 0 | K12: =I12+J12 -> 1200000 | L12: 1200000 | M12: 0 | N12: =L12+M12 -> 1200000 | O12: =I12+L12 -> 2400000 | P12: =J12+M12 -> 0 | Q12: =O12+P12 -> 2400000 | R12: =O12 -> 2400000 | S12: =P12 -> 0 | T12: =R12+S12 -> 2400000 | U12: 0 | V12: 0 | X12: =U12+V12 -> 0 | Y12: =Q12-T12-X12 -> 0
B13: 1.1.3 | C13: Rishikimi dhe hartimi i Procedurave Standarde të Punës në zbatim të kuadrit ligjor dhe nënligjor të rishikuar që kanë të bëjnë me menaxhimin, verifikimin, kontrollin dhe mbikëqyrjen e kufirit shtetëror. | D13: 91604AK | E13: MPB/PSH | F13: FRONTEX, CEPOL, ICMPD, GIZ, IOM | G13: 2026 | H13: 2027 | I13: 500000 | J13: 0 | K13: =I13+J13 -> 500000 | L13: 500000 | M13: 0 | N13: =L13+M13 -> 500000 | O13: =I13+L13 -> 1000000 | P13: =J13+M13 -> 0 | Q13: =O13+P13 -> 1000000 | R13: =O13 -> 1000000 | S13: =P13 -> 0 | T13: =R13+S13 -> 1000000 | U13: 0 | V13: 0 | X13: =U13+V13 -> 0 | Y13: =Q13-T13-X13 -> 0
B14: Masa 1.2 | C14: Forcimi i kapaciteteve administrative dhe institucionale për zbatimin e kuadrit të ri ligjor të menaxhimit të integruar të kufirit. | E14: MPB/PSH | F14: FRONTEX, CEPOL, GIZ, OSCE, IOM, ICMPD, UNDP | G14: 2026 | H14: 2027
B15: 1.2.1 | C15: Kryerja e analizës funksionale dhe institucionale të strukturave të Policisë Kufitare dhe Migracionit, me qëllim vlerësimin e nevojave për përshtatje organizative, burime njerëzore dhe kapacitete operacionale, në përputhje me kërkesat e acquis të BE-së dhe rekomandimet e Agjencisë Evropiane të Rojës Kufitare dhe Bregdetare (Frontex). | D15: 91604AK | E15: MPB/PSH | F15: FRONTEX, ICMPD, GIZ | G15: 2026 | H15: 2027 | I15: 250000 | J15: 0 | K15: =I15+J15 -> 250000 | L15: 250000 | M15: 0 | N15: =L15+M15 -> 250000 | O15: =I15+L15 -> 500000 | P15: =J15+M15 -> 0 | Q15: =O15+P15 -> 500000 | R15: =O15 -> 500000 | S15: =P15 -> 0 | T15: =R15+S15 -> 500000 | U15: 0 | V15: 0 | X15: =U15+V15 -> 0 | Y15: =Q15-T15-X15 -> 0
B16: 1.2.2 | C16: Trajnimi i personelit të strukturave kufitare për zbatimin e legjislacionit, akteve të reja nënligjore dhe të PSP-ve të rishikuara dhe të miratuara. | D16: 91604AK | E16: MPB/PSH | F16: FRONTEX, CEPOL, IOM, GIZ, OSCE, ICMPD | G16: 2026 | H16: 2027 | I16: 500000 | J16: 0 | K16: =I16+J16 -> 500000 | L16: 500000 | M16: 0 | N16: =L16+M16 -> 500000 | O16: =I16+L16 -> 1000000 | P16: =J16+M16 -> 0 | Q16: =O16+P16 -> 1000000 | R16: =O16 -> 1000000 | S16: =P16 -> 0 | T16: =R16+S16 -> 1000000 | U16: 0 | V16: 0 | X16: =U16+V16 -> 0 | Y16: =Q16-T16-X16 -> 0
B17: 1.2.3 | C17: Vendosja e mekanizmave të monitorimit, vlerësimit dhe raportimit periodik mbi zbatimin e kuadrit të rishikuar ligjor dhe operacional të Menaxhimit të Integruar të Kufirit, duke siguruar identifikimin e problematikave, marrjen e masave korrigjuese dhe përmirësimin e vazhdueshëm të kapaciteteve institucionale. | D17: 91604AK | E17: MPB/PSH | F17: FRONTEX, ICMPD, IOM, OSCE, UNDP | G17: 2026 | H17: 2027 | I17: 250000 | J17: 0 | K17: =I17+J17 -> 250000 | L17: 250000 | M17: 0 | N17: =L17+M17 -> 250000 | O17: =I17+L17 -> 500000 | P17: =J17+M17 -> 0 | Q17: =O17+P17 -> 500000 | R17: =O17 -> 500000 | S17: =P17 -> 0 | T17: =R17+S17 -> 500000 | U17: 0 | V17: 0 | X17: =U17+V17 -> 0 | Y17: =Q17-T17-X17 -> 0
C18: Kosto Objektivi Specifik 1. | I18: =SUM(I10:I17) -> 3450000 | J18: =SUM(J10:J17) -> 0 | K18: =SUM(K10:K17) -> 3450000 | L18: =SUM(L10:L17) -> 2950000 | M18: =SUM(M10:M17) -> 0 | N18: =SUM(N10:N17) -> 2950000 | O18: =SUM(O10:O17) -> 6400000 | P18: =SUM(P10:P17) -> 0 | ... V18: =SUM(V10:V17) -> 0 | X18: =SUM(X10:X17) -> 0 | Y18: =SUM(Y10:Y17) -> 0
B19: 2 | C19: OBJEKTIVI SPECIFIK 2 - Përmirësimi i Sistemit për mbikqyrjen e hapësirës detare, kontrollit kufitar dhe kërkimit-shpëtimit në det.
B20: Masa 2.1 | C20: Rishikimi dhe miratimi i Planit Kombëtar të Kërkim-Shpëtimit në Republikën e Shqipërisë dhe Planit të Veprimit për zbatimin e tij, në përputhje me kërkesat kombëtare dhe konventat ndërkombëtare. | E20: MM | F20: MPB/PSH MSHMS MIE MTKS | G20: 2026 | H20: 2027
B21: 2.1.1 | C21: Miratimi i Planit Kombëtar të Kërkim Shpëtimit në RSH dhe Plani i Veprimit për zbatimin e tij. | E21: MM | F21: MPB/PSH MSHMS MIE MTKS | G21: 2026 | H21: 2026 | I21: 0 | J21: 0 | K21: =I21+J21 -> 0 | L21: 0 | M21: 0 | N21: =L21+M21 -> 0 | O21: =I21+L21 -> 0 | P21: =J21+M21 -> 0 | Q21: =O21+P21 -> 0 | R21: =O21 -> 0 | S21: =P21 -> 0 | T21: =R21+S21 -> 0 | U21: 0 | V21: 0 | X21: =U21+V21 -> 0 | Y21: =Q21-T21-X21 -> 0
B22: 2.1.2 | C22: Zhvillimi i aktiviteteve informuese dhe ndërgjegjësuese me subjektet publike dhe private që ushtrojnë veprimtari në hapësirën detare, lidhur me detyrimet ligjore për shpëtimin e jetës në det. | D22: 91604AJ | E22: MPB/PSH | F22: MM, AKMC, Kapitaneria e Përgjithshme e Porteve, Autoriteti Portual, MEPJ/ FRONTEX, IMO, IOM, UNHCR | G22: 2026 | H22: 2027 | I22: 300000 | J22: 0 | K22: =I22+J22 -> 300000 | L22: 300000 | M22: 0 | N22: =L22+M22 -> 300000 | O22: =I22+L22 -> 600000 | P22: =J22+M22 -> 0 | Q22: =O22+P22 -> 600000 | R22: 600000 | S22: 0 | T22: =R22+S22 -> 600000 | U22: 0 | V22: 0 | X22: =U22+V22 -> 0 | Y22: =Q22-T22-X22 -> 0
B23: Masa 2.2 | C23: Përmirësimi i kapaciteteve logjistike të Policisë Kufitare dhe Migracionit për mbikëqyrjen e kufirit blu. | E23: PSH | F23: MPB ICMPD | G23: 2026 | H23: 2027
B24: 2.2.1 | C24: Instalimi i një radari për përmirësimin e mbikëqyrjes dhe vëzhgimin e hapësirës detare në SPKM Hoxharë ose Zvërnec. | D24: 91604AJ | E24: PSH | F24: MPB ICMPD | G24: 2026 | H24: 2027 | I24: 0 | J24: 110000000 | K24: =I24+J24 -> 110000000 | L24: 0 | M24: 0 | N24: =L24+M24 -> 0 | O24: =I24+L24 -> 0 | P24: =J24+M24 -> 110000000 | Q24: =O24+P24 -> 110000000 | R24: 0 | S24: 0 | T24: =R24+S24 -> 0 | U24: 0 | V24: 110000000 | W24: Projekti i financuar nga BE (EU4SAFEALB) | X24: =U24+V24 -> 110000000 | Y24: =Q24-T24-X24 -> 0
B25: 2.2.2 | C25: Pajisja me 4 mjete lundruese 5–7 metra për mbikëqyrjen e hapësirës lumore. | D25: 91604AJ | E25: PSH | F25: MPB ICMPD | G25: 2026 | H25: 2027 | I25: 0 | J25: 20000000 | K25: =I25+J25 -> 20000000 | L25: 0 | M25: 0 | N25: =L25+M25 -> 0 | O25: =I25+L25 -> 0 | P25: =J25+M25 -> 20000000 | Q25: =O25+P25 -> 20000000 | R25: 0 | S25: 0 | T25: =R25+S25 -> 0 | U25: 0 | V25: 20000000 | W25: Projekti i financuar nga BE (EU4SAFEALB) | X25: =U25+V25 -> 20000000 | Y25: =Q25-T25-X25 -> 0
B26: 2.2.3 | C26: Instalimi i 2 radarëve për përmirësimin e mbikëqyrjes së hapësirës liqenore (Shkodër, Ohër). | D26: 91604AJ | E26: PSH | F26: MPB ICMPD | G26: 2026 | H26: 2027 | I26: 0 | J26: 48000000 | K26: =I26+J26 -> 48000000 | L26: 0 | M26: 0 | N26: =L26+M26 -> 0 | O26: =I26+L26 -> 0 | P26: =J26+M26 -> 48000000 | Q26: =O26+P26 -> 48000000 | R26: 0 | S26: 0 | T26: =R26+S26 -> 0 | U26: 0 | V26: 48000000 | W26: Donacion Ambasada Gjermane, zbatues CORATEL shpk | X26: =U26+V26 -> 48000000 | Y26: =Q26-T26-X26 -> 0
B27: 2.2.4 | C27: Instalimi, konfigurimi, testimi dhe vënia në funksion e sistemit të radio ndërlidhjes në kufirin detar, duke siguruar mbulim dhe komunikim të qëndrueshem ndërmjet strukturave përgjegjëse | D27: 91604AJ | E27: PSH | F27: MPB ICMPD Ambasada Gjermane | G27: 2026 | H27: 2027 | I27: 0 | J27: 20000000 | K27: =I27+J27 -> 20000000 | L27: 0 | M27: 20000000 | N27: =L27+M27 -> 20000000 | O27: =I27+L27 -> 0 | P27: =J27+M27 -> 40000000 | Q27: =O27+P27 -> 40000000 | R27: 0 | S27: 0 | T27: =R27+S27 -> 0 | U27: 0 | V27: 40000000 | W27: Donacion Ambasada Gjermane | X27: =U27+V27 -> 40000000 | Y27: =Q27-T27-X27 -> 0
B28: 2.2.5 | C28: Pajisja me dy mjete lundruese e kufirit liqenor (Shkodër, Ohër). | D28: 91604AJ | E28: PSH | F28: MPB ICMPD | G28: 2026 | H28: 2027 | I28: 0 | J28: 20000000 | K28: =I28+J28 -> 20000000 | L28: 0 | M28: 0 | N28: =L28+M28 -> 0 | O28: =I28+L28 -> 0 | P28: =J28+M28 -> 20000000 | Q28: =O28+P28 -> 20000000 | R28: 0 | S28: 0 | T28: =R28+S28 -> 0 | U28: 0 | V28: =P28 -> 20000000 | W28: ICMPD | X28: =U28+V28 -> 20000000 | Y28: =Q28-T28-X28 -> 0 | AB28: Financuar me donatore
B29: 2.2.6 | C29: Pajisja dhe fuqizimi i kapaciteteve operacionale të Njësisë Policore Detare përmes kompletimit me mjete lundruese të tipit Jet-Ski dhe karela tërheqëse, me qëllim rritjen e aftësisë reaguese, patrullimit dhe ndërhyrjes në hapësirën detare. | D29: 91604AJ | E29: PSH | F29: MPB ICMPD | G29: 2026 | H29: 2027 | I29: 0 | J29: 0 | K29: =I29+J29 -> 0 | L29: 0 | M29: 0 | N29: =L29+M29 -> 0 | O29: =I29+L29 -> 0 | P29: =J29+M29 -> 0 | Q29: =O29+P29 -> 0 | R29: 0 | S29: 0 | T29: =R29+S29 -> 0 | U29: 0 | V29: 0 | X29: =U29+V29 -> 0 | Y29: =Q29-T29-X29 -> 0
B30: Masa 2.3 | C30: Mirëmbajtja dhe përditësimi i sistemeve të vëzhgimit të hapësirës detare e liqenore (radarë, radiondërlidhje, qendra e monitorimit). | D30: 91604AJ | E30: MPB/PSH | G30: 2026 | H30: 2027 | I30: 3000000 | J30: 0 | K30: =I30+J30 -> 3000000 | L30: 3000000 | M30: 0 | N30: =L30+M30 -> 3000000 | O30: =I30+L30 -> 6000000 | P30: =J30+M30 -> 0 | Q30: =O30+P30 -> 6000000 | R30: 6000000 | S30: 0 | T30: =R30+S30 -> 6000000 | U30: 0 | V30: 0 | X30: =U30+V30 -> 0 | Y30: =Q30-T30-X30 -> 0
C31: Kosto Objektivi specifik 2 | I31: =SUM(I20:I30) -> 3300000 | J31: =SUM(J20:J30) -> 218000000 | K31: =SUM(K20:K30) -> 221300000 | L31: =SUM(L20:L30) -> 3300000 | M31: =SUM(M20:M30) -> 20000000 | N31: =SUM(N20:N30) -> 23300000 | O31: =SUM(O20:O30) -> 6600000 | P31: =SUM(P20:P30) -> 238000000 | ... V31: =SUM(V20:V30) -> 238000000 | X31: =SUM(X20:X30) -> 238000000 | Y31: =SUM(Y20:Y30) -> 0
B32: 3 | C32: OBJEKTIVI SPECIFIK 3: Reduktimi i vulnerabilitetit (ndjeshmërisë) në kufi duke reaguar në mënyrë më efektive me vendosjen e burimeve të disponueshme, bazuar në analizën e rrezikut të kryer dhe kërcënimit që mund të ndikojë në sigurinë kufitare, në përputhje me modelin e CIRAM të BE-së.
B33: Masa 3.1 | C33: Krijimi i kuadrit të përbashkët rregullator për zhvillimin e analizave të përbashkëta të riskut në përputhje me standardet CIRAM, me synim forcimin e Menaxhimit të Integruar të Kufirit, rritjen e bashkëpunimit ndërinstitucional ndërmjet Policisë së Shtetit, Administratës Doganore dhe Autoritetit Kombëtar të Ushqimit, si dhe përmirësimin e kapaciteteve përmes trajnimeve dhe aktiviteteve të përbashkëta operacionale. | D33: 91604AK | E33: PSH | F33: DPD AKU / FRONTEX, ICMPD, GIZ, OSCE | G33: 2026 | H33: 2027
B34: 3.1.1 | C34: Hartimi dhe miratimi i Rregullores së Përbashkët për zhvillimin e analizave të përbashkëta të riskut sipas standardeve CIRAM, si bazë për menaxhimin dhe bashkëpunimin e integruar të kufijve ndërmjet Policisë së Shtetit, Administratës Doganore, Autoritetit Kombëtra të Ushqimit, si dhe planifikimi dhe zbatimi i trajnimeve dhe aktiviteteve të përbashkëta. | D34: 91604AK | E34: PSH | F34: DPD AKU / FRONTEX, ICMPD | G34: 2026 | H34: 2027 | I34: 1500000 | J34: 0 | K34: =I34+J34 -> 1500000 | L34: 1500000 | M34: 0 | N34: =L34+M34 -> 1500000 | O34: =I34+L34 -> 3000000 | P34: =J34+M34 -> 0 | Q34: =O34+P34 -> 3000000 | R34: 3000000 | S34: 0 | T34: =R34+S34 -> 3000000 | U34: 0 | V34: 0 | X34: =U34+V34 -> 0 | Y34: =Q34-T34-X34 -> 0
B35: 3.1.2 | C35: Aplikimi i Modelit CIRAM sipas rregullores për analizën e riskut në të gjithë strukturat qëndrore dhe vendore për kufirin dhe Migracionin. | D35: 91604AK | E35: PSH | F35: DPD AKU / FRONTEX, CEPOL, ICMPD, GIZ | G35: 2026 | H35: 2027 | I35: 800000 | J35: 0 | K35: =I35+J35 -> 800000 | L35: 800000 | M35: 0 | N35: =L35+M35 -> 800000 | O35: =I35+L35 -> 1600000 | P35: =J35+M35 -> 0 | Q35: =O35+P35 -> 1600000 | R35: 1600000 | S35: 0 | T35: =R35+S35 -> 1600000 | U35: 0 | V35: 0 | X35: =U35+V35 -> 0 | Y35: =Q35-T35-X35 -> 0
B36: 3.1.3 | C36: Hartimi i rekomandimeve të dala nga analizat e riskut dhe ndjekja e zbatimit të tyre nga institucionet përgjegjëse. | D36: 91604AK | E36: PSH | F36: DPD AKU / FRONTEX, ICMPD, OSCE | G36: 2026 | H36: 2027 | I36: 115000000 | J36: 0 | K36: =I36+J36 -> 115000000 | L36: 115000000 | M36: 0 | N36: =L36+M36 -> 115000000 | O36: =I36+L36 -> 230000000 | P36: =J36+M36 -> 0 | Q36: =O36+P36 -> 230000000 | R36: 230000000 | S36: 0 | T36: =R36+S36 -> 230000000 | U36: 0 | V36: 0 | X36: =U36+V36 -> 0 | Y36: =Q36-T36-X36 -> 0
B37: Masa 3.2 | C37: Pajisja e shërbimeve të Policisë Kufitare dhe Migracionit me automjete patrullimi dhe mjete transporti për shërbimet dhe migrantët e parregullt. | D37: 91604AK | E37: PSH | G37: 2026 | H37: 2027 | I37: 0 | J37: 60000000 | K37: =I37+J37 -> 60000000 | L37: 0 | M37: 0 | N37: =L37+M37 -> 0 | O37: =I37+L37 -> 0 | P37: =J37+M37 -> 60000000 | Q37: =O37+P37 -> 60000000 | R37: 0 | S37: 0 | T37: =R37+S37 -> 0 | U37: 0 | V37: 60000000 | W37: Projekti i financuar nga BE (EU4SAFEALB) | X37: =U37+V37 -> 60000000 | Y37: =Q37-T37-X37 -> 0
B38: Masa 3.3 | C38: Pajisja e shërbimeve të kontrollit të kufirit me pajisje speciale. | D38: 91604AK | E38: PSH | G38: 2026 | H38: 2027 | I38: 0 | J38: 25000000 | K38: =I38+J38 -> 25000000 | L38: 0 | M38: 0 | N38: =L38+M38 -> 0 | O38: =I38+L38 -> 0 | P38: =J38+M38 -> 25000000 | Q38: =O38+P38 -> 25000000 | R38: 0 | S38: 0 | T38: =R38+S38 -> 0 | U38: 0 | V38: 25000000 | W38: Projekti i financuar nga BE (EU4SAFEALB) | X38: =U38+V38 -> 25000000 | Y38: =Q38-T38-X38 -> 0
B39: Masa 3.4 | C39: Organizimi dhe zhvillimi i tajnimeve, ushtrimeve dhe stervitjeve praktike me synim rritjen e kapaciteteve operacionale, permiresimin e koordinimit dhe forcimin e gatishmerise se forcave per reagim ndaj emergjencave | E39: MM/AKMC | F39: Institucionet përfituese sipas projektit/Italian Agency for Development Cooperation (AICS | G39: 2026 | H39: 2027 | I39: 52553751 | J39: 122625419 | K39: =I39+J39 -> 175179170 | L39: 49330324 | M39: 1.1510409e+08 | N39: =L39+M39 -> 1.6443441e+08 | O39: =I39+L39 -> 1.0188407e+08 | P39: =J39+M39 -> 2.3772951e+08 | Q39: =O39+P39 -> 3.3961358e+08 | R39: 0 | S39: 0 | T39: =R39+S39 -> 0 | U39: 1.0188407e+08 | V39: 2.3772951e+08 | W39: Projekti AICS (Agjencia Italiane për Bashkëpunim dhe Zhvillim) | X39: =U39+V39 -> 3.3961358e+08 | Y39: =Q39-T39-X39 -> 0
C40: Kosto Objektivi specifik 3 | I40: =SUM(I33:I39) -> 169853751 | J40: =SUM(J33:J39) -> 207625419 | K40: =SUM(K33:K39) -> 377479170 | L40: =SUM(L33:L39) -> 1.6663032e+08 | M40: =SUM(M33:M39) -> 1.1510409e+08 | N40: =SUM(N33:N39) -> 2.8173441e+08 | O40: =SUM(O33:O39) -> 3.3648407e+08 | P40: =SUM(P33:P39) -> 3.2272951e+08 | ... V40: =SUM(V33:V39) -> 3.2272951e+08 | X40: =SUM(X33:X39) -> 4.2461358e+08 | Y40: =SUM(Y33:Y39) -> 0
B41: 4 | C41: OBJEKTIVI SPECIFIK 4: Bashkëpunim i zgjeruar ndërinstitucional në menaxhimin e integruar të kufijve për të përmirësuar trafikun ndërkufitar, përmirësimin e sigurisë kufitare, luftën ndaj krimit ndërkufitar, mbrojtjen e jetës, shëndetit dhe pronën e njerëzve, shëndetin e kafshëve, bimësinë dhe ekosistemet përgjatë kufirit shtetëror.
B42: Masa 4.1 | C42: Ngritja dhe funksionimi i Qendrës Kombëtare të Menaxhimit të Integruar të Kufirit. | D42: 91604AK | E42: MPB/PSH | F42: MF/DPD MBZHR/AKU / FRONTEX, ICMPD, GIZ | G42: 2026 | H42: 2027 | I42: 600000 | J42: 0 | K42: =I42+J42 -> 600000 | L42: 600000 | M42: 0 | N42: =L42+M42 -> 600000 | O42: =I42+L42 -> 1200000 | P42: =J42+M42 -> 0 | Q42: =O42+P42 -> 1200000 | R42: 1200000 | S42: 0 | T42: =R42+S42 -> 1200000 | U42: 0 | V42: 0 | X42: =U42+V42 -> 0 | Y42: =Q42-T42-X42 -> 0
...

Sheet Qëllimi i Politikave
B2: Qëllimi i Politikës I: MBROJTJA E SIGURISË SË BRENDSHME DHE MENAXHIMI I FLUKSEVE MIGRATORE, ME QËLLIM PARANDALIMIN E MIGRACIONIT TË PARREGULLT, SI DHE PARANDALIMIN DHE GODITJEN E KRIMIT NDËRKUFITAR
B3: Objektivat Specifikë | C3: Institucionet përgjegjegjëse | E3: Afati i Zbatimit | G3: Kosto indikative totale | J3: Burimi i financimit | P3: Hendeku financiar 2026-2027 (në Lekë) | Q3: Kosto totale ne EUR (kursi kembimit: 1 EUR = 96.2 ALL)
C4: Institucioni përgjegjës | D4: Institucioni kontribues | E4: Afati i fillimit | F4: Afati i mbarimit | J4: PBA 2026-2028 | M4: Financim i huaj
G5: Korente | H5: Kapitale | I5: Total Kosto | J5: Korente | K5: Kapitale | L5: Total BSH | M5: Korente | N5: Kapitale | O5: Total FH
B6: OBJEKTIVI SPECIFIK 1: Rritja e nivelit të përputhshmërisë me standardet evropiane dhe të shengenit, në aspektin legjislativ, administrativ dhe institucional në fushën e menaxhimit të integruar të kufijve, veçanërisht në fushën e kontrollit dhe mbikqyrjes së kufirit dhe forcimi i bashkëpunimit ndëragjeci dhe bashkëpunimit ndërkombëtar. | C6: PSH | D6: MB MFE DPD MM | E6: 2026 | F6: 2027 | G6: =' Plani i Veprimit 2026-2027 '!O18 -> 6400000 | H6: =' Plani i Veprimit 2026-2027 '!P18 -> 0 | I6: =' Plani i Veprimit 2026-2027 '!Q18 -> 6400000 | J6: =' Plani i Veprimit 2026-2027 '!R18 -> 6400000 | K6: =' Plani i Veprimit 2026-2027 '!S18 -> 0 | L6: =' Plani i Veprimit 2026-2027 '!T18 -> 6400000 | M6: =' Plani i Veprimit 2026-2027 '!U18 -> 0 | N6: =' Plani i Veprimit 2026-2027 '!V18 -> 0 | O6: =' Plani i Veprimit 2026-2027 '!X18 -> 0 | P6: =' Plani i Veprimit 2026-2027 '!Y18 -> 0 | Q6: =I6/96.2 -> 66528.067
B7: OBJEKTIVI SPECIFIK 2 - Përmirësimi i Sistemit për mbikqyrjen e hapësirës detare, kontrollit kufitar dhe kërkimit-shpëtimit në det. | C7: MB PSH MM / FD-RB | D7: MM FD-RB QNOD MB / DPPSH MFE/DPD MIE/Drejtoria e Përgjithshme Detare DONATORË | E7: 2026 | F7: 2027 | G7: =' Plani i Veprimit 2026-2027 '!O31 -> 6600000 | H7: =' Plani i Veprimit 2026-2027 '!P31 -> 238000000 | I7: =' Plani i Veprimit 2026-2027 '!Q31 -> 244600000 | J7: =' Plani i Veprimit 2026-2027 '!R31 -> 6600000 | K7: =' Plani i Veprimit 2026-2027 '!S31 -> 0 | L7: =' Plani i Veprimit 2026-2027 '!T31 -> 6600000 | M7: =' Plani i Veprimit 2026-2027 '!U31 -> 0 | N7: =' Plani i Veprimit 2026-2027 '!V31 -> 238000000 | O7: =' Plani i Veprimit 2026-2027 '!X31 -> 238000000 | P7: =' Plani i Veprimit 2026-2027 '!Y31 -> 0 | Q7: =I7/96.2 -> 2542619.5
B8: OBJEKTIVI SPECIFIK 3: Reduktimi i vulnerabilitetit (ndjeshmërisë) në kufi duke reaguar në mënyrë më efektive me vendosjen e burimeve të disponueshme, bazuar në analizën e rrezikut të kryer dhe kërcënimit që mund të ndikojë në sigurinë kufitare, në përputhje me modelin e CIRAM të BE-së. | C8: PSH | D8: MB MBZHR/AKU MFE/DPD | E8: 2026 | F8: 2027 | G8: =' Plani i Veprimit 2026-2027 '!O40 -> 3.3648407e+08 | H8: =' Plani i Veprimit 2026-2027 '!P40 -> 3.2272951e+08 | I8: =' Plani i Veprimit 2026-2027 '!Q40 -> 6.5921358e+08 | J8: =' Plani i Veprimit 2026-2027 '!R40 -> 234600000 | K8: =' Plani i Veprimit 2026-2027 '!S40 -> 0 | L8: =' Plani i Veprimit 2026-2027 '!T40 -> 234600000 | M8: =' Plani i Veprimit 2026-2027 '!U40 -> 1.0188407e+08 | N8: =' Plani i Veprimit 2026-2027 '!V40 -> 3.2272951e+08 | O8: =' Plani i Veprimit 2026-2027 '!X40 -> 4.2461358e+08 | P8: =' Plani i Veprimit 2026-2027 '!Y40 -> 0 | Q8: =I8/96.2 -> 6852532
B9: OBJEKTIVI SPECIFIK 4: Bashkëpunim i zgjeruar ndërinstitucional në menaxhimin e integruar të kufijve për të përmirësuar trafikun ndërkufitar, përmirësimin e sigurisë kufitare, luftën ndaj krimit ndërkufitar, mbrojtjen e jetës, shëndetit dhe pronën e njerëzve, shëndetin e kafshëve, bimësinë dhe ekosistemet përgjatë kufirit shtetëror. | C9: MFE/DPD MB/PSH MASR MK/IKRKT | D9: MB/PSH MFE/DPD MBZHR/AKU ASCAP | E9: 2026 | F9: 2027 | G9: =' Plani i Veprimit 2026-2027 '!O72 -> 11943000 | H9: =' Plani i Veprimit 2026-2027 '!P72 -> 0 | I9: =' Plani i Veprimit 2026-2027 '!Q72 -> 11943000 | J9: =' Plani i Veprimit 2026-2027 '!R72 -> 11943000 | K9: =' Plani i Veprimit 2026-2027 '!S72 -> 0 | L9: =' Plani i Veprimit 2026-2027 '!T72 -> 11943000 | M9: =' Plani i Veprimit 2026-2027 '!U72 -> 0 | N9: =' Plani i Veprimit 2026-2027 '!V72 -> 0 | O9: =' Plani i Veprimit 2026-2027 '!X72 -> 0 | P9: =' Plani i Veprimit 2026-2027 '!Y72 -> 0 | Q9: =I9/96.2 -> 124147.61
B10: OBJEKTIVI SPECIFIK 5: Forcimi i bashkëpunimit ndërkombëtar, veçanërisht me vendet fqinje, institucionet e BE-së dhe Agjencinë Europiane të Rojes Kufitare dhe Bregdetare (FRONTEX) për çështjet e kufijve, parandalimin e migracionit të paligjshëm, krimin ndërkufitar dhe ripranimin e personave me qëndrim të parregullt. | C10: MB/PSH DPD | D10: MFE/DPD MEPJ MB | E10: 2026 | F10: 2027 | G10: =' Plani i Veprimit 2026-2027 '!O84 -> 819903380 | H10: =' Plani i Veprimit 2026-2027 '!P84 -> 60000000 | I10: =' Plani i Veprimit 2026-2027 '!Q84 -> 879903380 | J10: =' Plani i Veprimit 2026-2027 '!R84 -> 819903380 | K10: =' Plani i Veprimit 2026-2027 '!S84 -> 0 | L10: =' Plani i Veprimit 2026-2027 '!T84 -> 819903380 | M10: =' Plani i Veprimit 2026-2027 '!U84 -> 0 | N10: =' Plani i Veprimit 2026-2027 '!V84 -> 60000000 | O10: =' Plani i Veprimit 2026-2027 '!X84 -> 60000000 | P10: =' Plani i Veprimit 2026-2027 '!Y84 -> 0 | Q10: =I10/96.2 -> 9146604.8
B11: OBJEKTIVI SPECIFIK 6: Përmirësimi i sistemit të ripranimit (kthimit dhe pranimit) të shtetasve të huaj dhe vendas në përputhje me marrëveshjet e lidhura dhe në bashkëpunim me misionet diplomatike dhe konsullore | C11: MB/PSH | D11: MEPJ MSHMS | E11: 2026 | F11: 2027 | G11: =' Plani i Veprimit 2026-2027 '!O89 -> 1400000 | H11: =' Plani i Veprimit 2026-2027 '!P89 -> 50000000 | I11: =' Plani i Veprimit 2026-2027 '!Q89 -> 51400000 | J11: =' Plani i Veprimit 2026-2027 '!R89 -> 1400000 | K11: =' Plani i Veprimit 2026-2027 '!S89 -> 0 | L11: =' Plani i Veprimit 2026-2027 '!T89 -> 1400000 | M11: =' Plani i Veprimit 2026-2027 '!U89 -> 0 | N11: =' Plani i Veprimit 2026-2027 '!V89 -> 50000000 | O11: =' Plani i Veprimit 2026-2027 '!X89 -> 50000000 | P11: =' Plani i Veprimit 2026-2027 '!Y89 -> 0 | Q11: =I11/96.2 -> 534303.53
B12: Kosto totale Qëllimi i Politikës I (objektiva specifike 1+2+3+4+5+6) | G12: =SUM(G6:G11) -> 1.1827305e+09 | H12: =SUM(H6:H11) -> 6.7072951e+08 | I12: =SUM(I6:I11) -> 1.85346e+09 | J12: =SUM(J6:J11) -> 1080846380 | K12: =SUM(K6:K11) -> 0 | L12: =SUM(L6:L11) -> 1080846380 | M12: =SUM(M6:M11) -> 1.0188407e+08 | N12: =SUM(N6:N11) -> 6.7072951e+08 | ... Q12: =SUM(Q6:Q11) -> 19266736
B13: Qëllimi i Politikës II: LEHTËSIMI I QARKULLIMIT LEGJITIM TË SHTETASVE DHE MALLRAVE
B14: Objektivat Specifikë | C14: Institucionet përgjegjegjëse | E14: Afati i Zbatimit | G14: Kosto indikative totale | J14: Burimi i financimit | P14: Hendeku financiar 2026-2027 (në Lekë) | Q14: Kosto totale ne EUR (kursi kembimit: 1 EUR = 96.2 ALL)
C15: Institucioni përgjegjës | D15: Institucioni kontribues | E15: Afati i fillimit | F15: Afati i mbarimit | J15: PBA 2026-2028 | M15: Financim i huaj
G16: Korente | H16: Kapitale | I16: Total Kosto | J16: Korente | K16: Kapitale | L16: Total BSH | M16: Korente | N16: Kapitale | O16: Total FH
B17: OBJEKTIVI SPECIFIK 1: Përmirësimi i infrastrukturës në Pikat e Kalimit Kufitar me qëllim krijimin e kushteve që sigurojnë kalim të lehtësuar dhe të sigurt në shtetasve dhe mallrave. | C17: DPD PSH | D17: MFE/DPD MB / PSH | E17: 2026 | F17: 2027 | G17: =' Plani i Veprimit 2026-2027 '!O106 -> 328490398 | H17: =' Plani i Veprimit 2026-2027 '!P106 -> 77940000 | I17: =' Plani i Veprimit 2026-2027 '!Q106 -> 406430398 | J17: =' Plani i Veprimit 2026-2027 '!R106 -> 328490398 | K17: =' Plani i Veprimit 2026-2027 '!S106 -> 77940000 | L17: =' Plani i Veprimit 2026-2027 '!T106 -> 406430398 | M17: =' Plani i Veprimit 2026-2027 '!U106 -> 0 | N17: =' Plani i Veprimit 2026-2027 '!V106 -> 0 | O17: =' Plani i Veprimit 2026-2027 '!X106 -> 0 | P17: =' Plani i Veprimit 2026-2027 '!Y106 -> 0 | Q17: =I17/96.2 -> 4224848.2
B18: OBJEKTIVI SPECIFIK 2: Negocimi dhe nënshkrimi i marrëveshjeve për ngritjen e Pikave të Përbashkëta të Kalimit Kufitar dhe Doganor. | C18: MB/PSH | D18: MFE/DPD MEPJ | E18: 2026 | F18: 2027 | G18: =' Plani i Veprimit 2026-2027 '!O114 -> 3600000 | H18: =' Plani i Veprimit 2026-2027 '!P114 -> 0 | I18: =' Plani i Veprimit 2026-2027 '!Q114 -> 3600000 | J18: =' Plani i Veprimit 2026-2027 '!R114 -> 3600000 | K18: =' Plani i Veprimit 2026-2027 '!S114 -> 0 | L18: =' Plani i Veprimit 2026-2027 '!T114 -> 3600000 | M18: =' Plani i Veprimit 2026-2027 '!U114 -> 0 | N18: =' Plani i Veprimit 2026-2027 '!V114 -> 0 | O18: =' Plani i Veprimit 2026-2027 '!X114 -> 0 | P18: =' Plani i Veprimit 2026-2027 '!Y114 -> 0 | Q18: =I18/96.2 -> 37422.037
B19: OBJEKTIVI SPECIFIK 3: Alokimi i burimeve të nevojshme njerëzore në Pikat e Kalimit të Kufitar në përputhje me fluksin e qarkullimit ndërkufitar. | C19: PSH | D19: MB | E19: 2026 | F19: 2027 | G19: =' Plani i Veprimit 2026-2027 '!O122 -> 762850000 | H19: =' Plani i Veprimit 2026-2027 '!P122 -> 0 | I19: =' Plani i Veprimit 2026-2027 '!Q122 -> 762850000 | J19: =' Plani i Veprimit 2026-2027 '!R122 -> 762850000 | K19: =' Plani i Veprimit 2026-2027 '!S122 -> 0 | L19: =' Plani i Veprimit 2026-2027 '!T122 -> 762850000 | M19: =' Plani i Veprimit 2026-2027 '!U122 -> 0 | N19: =' Plani i Veprimit 2026-2027 '!V122 -> 0 | O19: =' Plani i Veprimit 2026-2027 '!X122 -> 0 | P19: =' Plani i Veprimit 2026-2027 '!Y122 -> 0 | Q19: =I19/96.2 -> 7929833.7
B20: OBJEKTIVI SPECIFIK 4: Forcimi i kapaciteteve logjistike për zbulimin e dokumenteve të falsifikuara të udhëtimit. | C20: PSH | D20: MB | E20: 2026 | F20: 2027 | G20: =' Plani i Veprimit 2026-2027 '!O126 -> 0 | H20: =' Plani i Veprimit 2026-2027 '!P126 -> 92800000 | I20: =' Plani i Veprimit 2026-2027 '!Q126 -> 92800000 | J20: =' Plani i Veprimit 2026-2027 '!R126 -> 0 | K20: =' Plani i Veprimit 2026-2027 '!S126 -> 92800000 | L20: =' Plani i Veprimit 2026-2027 '!T126 -> 92800000 | M20: =' Plani i Veprimit 2026-2027 '!U126 -> 0 | N20: =' Plani i Veprimit 2026-2027 '!V126 -> 0 | O20: =' Plani i Veprimit 2026-2027 '!X126 -> 0 | P20: =' Plani i Veprimit 2026-2027 '!Y126 -> 0 | Q20: =I20/96.2 -> 964656.96
B21: OBJEKTIVI SPECIFIK 5: Forcimi i kapaciteteve profesionale të rojeve kufitare që shërbejnë në Pikat e Kalimit Kufitare për identifikimin e dokumenteve të udhëtimit. | C21: PSH | D21: MB | E21: 2026 | F21: 2027 | G21: =' Plani i Veprimit 2026-2027 '!O131 -> 800000 | H21: =' Plani i Veprimit 2026-2027 '!P131 -> 0 | I21: =' Plani i Veprimit 2026-2027 '!Q131 -> 800000 | J21: =' Plani i Veprimit 2026-2027 '!R131 -> 800000 | K21: =' Plani i Veprimit 2026-2027 '!S131 -> 0 | L21: =' Plani i Veprimit 2026-2027 '!T131 -> 800000 | M21: =' Plani i Veprimit 2026-2027 '!U131 -> 0 | N21: =' Plani i Veprimit 2026-2027 '!V131 -> 0 | O21: =' Plani i Veprimit 2026-2027 '!X131 -> 0 | P21: =' Plani i Veprimit 2026-2027 '!Y131 -> 0 | Q21: =I21/96.2 -> 8316.0083
B22: Kosto totale Qëllimi i Politikës II (objektiva specifike 1+2+3+4+5 ) | G22: =SUM(G17:G21) -> 1095740398 | H22: =SUM(H17:H21) -> 170740000 | I22: =SUM(I17:I21) -> 1266480398 | J22: =SUM(J17:J21) -> 1095740398 | K22: =SUM(K17:K21) -> 170740000 | L22: =SUM(L17:L21) -> 1266480398 | M22: =SUM(M17:M21) -> 0 | N22: =SUM(N17:N21) -> 0 | ... Q22: =SUM(Q17:Q21) -> 13165077
B23: Qëllimi i Politikës III: RESPEKTIMI I PLOTË I TË DREJTAVE THEMELORE, PËRFSHIRË TRAJTIMIN E ÇDO INDIVIDI ME RESPEKT TË PLOTË PËR DINJITETIN DHE MUNDËSIMIN E QASJES NË MBROJTJEN NDËRKOMBËTARE TË ATYRE QË KANË NEVOJË
B24: Objektivat Specifik | C24: Institucionet përgjegjegjëse | E24: Afati i Zbatimit | G24: Kosto indikative totale | J24: Burimi i financimit | P24: Hendeku financiar 2026-2027 (në Lekë) | Q24: Kosto totale ne EUR (kursi kembimit: 1 EUR = 96.2 ALL)
C25: Institucioni përgjegjës | D25: Institucioni kontribues | E25: Afati i fillimit | F25: Afati i mbarimit | J25: PBA 2026-2028 | M25: Financim i huaj
G26: Korente | H26: Kapitale | I26: Total Kosto | J26: Korente | K26: Kapitale | L26: Total BSH | M26: Korente | N26: Kapitale | O26: Total FH
B27: Objektivi specifik 1: Përmirësimi i nivelit të respektimit, mbrojtjes dhe promovimit të të drejtave themelore, sjelljes profesionale të oficerëve të kontrollit kufitar, si dhe aftësive të tyre profesionale për përdorim më efikas të pajisjeve teknike, trajnimit dhe zhvillimit profesional. | C27: PSH | D27: MB | E27: 2026 | F27: 2027 | G27: =' Plani i Veprimit 2026-2027 '!O144 -> 2120000 | H27: =' Plani i Veprimit 2026-2027 '!P144 -> 0 | I27: =' Plani i Veprimit 2026-2027 '!Q144 -> 2120000 | J27: =' Plani i Veprimit 2026-2027 '!R144 -> 2120000 | K27: =' Plani i Veprimit 2026-2027 '!S144 -> 0 | L27: =' Plani i Veprimit 2026-2027 '!T144 -> 2120000 | M27: =' Plani i Veprimit 2026-2027 '!U144 -> 0 | N27: =' Plani i Veprimit 2026-2027 '!V144 -> 0 | O27: =' Plani i Veprimit 2026-2027 '!X144 -> 0 | P27: =' Plani i Veprimit 2026-2027 '!Y144 -> 0 | Q27: =I27/96.2 -> 22037.422
B28: Objektivi specifik 2: Kontrolli i cilësisë në zbatimin e ligjit për menaxhimin e kufijve dhe sjellja e policëve dhe doganierëve të përfshirë në kontrollin kufitar dhe doganor të kryhet në përputhje aktet ligjore dhe nënligjore dhe me standardet e BE-së. | C28: PSH | D28: MB | E28: 2026 | F28: 2027 | G28: =' Plani i Veprimit 2026-2027 '!O151 -> 2370322 | H28: =' Plani i Veprimit 2026-2027 '!P151 -> 0 | I28: =' Plani i Veprimit 2026-2027 '!Q151 -> 2370322 | J28: =' Plani i Veprimit 2026-2027 '!R151 -> 2370322 | K28: =' Plani i Veprimit 2026-2027 '!S151 -> 0 | L28: =' Plani i Veprimit 2026-2027 '!T151 -> 2370322 | M28: =' Plani i Veprimit 2026-2027 '!U151 -> 0 | N28: =' Plani i Veprimit 2026-2027 '!V151 -> 0 | O28: =' Plani i Veprimit 2026-2027 '!X151 -> 0 | P28: =' Plani i Veprimit 2026-2027 '!Y151 -> 0 | Q28: =I28/96.2 -> 24639.522
B29: Objektivi specifik 3: Sigurimi i qasjes në mbrojtjen ndërkombëtare atyre që kanë nevojë. | C29: PSH | D29: MB | E29: 2026 | F29: 2027 | G29: =' Plani i Veprimit 2026-2027 '!O155 -> 1200000 | H29: =' Plani i Veprimit 2026-2027 '!P155 -> 0 | I29: =' Plani i Veprimit 2026-2027 '!Q155 -> 1200000 | J29: =' Plani i Veprimit 2026-2027 '!R155 -> 1200000 | K29: =' Plani i Veprimit 2026-2027 '!S155 -> 0 | L29: =' Plani i Veprimit 2026-2027 '!T155 -> 1200000 | M29: =' Plani i Veprimit 2026-2027 '!U155 -> 0 | N29: =' Plani i Veprimit 2026-2027 '!V155 -> 0 | O29: =' Plani i Veprimit 2026-2027 '!X155 -> 0 | P29: =' Plani i Veprimit 2026-2027 '!Y155 -> 0 | Q29: =I29/96.2 -> 12474.012
B30: Kosto totale Qëllimi i Politikës III (objektiva specifike 1+2+3 ) | G30: =SUM(G27:G29) -> 5690322 | H30: =SUM(H27:H29) -> 0 | I30: =SUM(I27:I29) -> 5690322 | J30: =SUM(J27:J29) -> 5690322 | K30: =SUM(K27:K29) -> 0 | L30: =SUM(L27:L29) -> 5690322 | M30: =SUM(M27:M29) -> 0 | N30: =SUM(N27:N29) -> 0 | ... Q30: =SUM(Q27:Q29) -> 59150.956
B31: Kosto totale e PV | G31: =G12+G22+G30 -> 2.2841612e+09 | H31: =H12+H22+H30 -> 8.4146951e+08 | I31: =I12+I22+I30 -> 3.1256307e+09 | J31: =J12+J22+J30 -> 2182277100 | K31: =K12+K22+K30 -> 170740000 | L31: =L12+L22+L30 -> 2353017100 | M31: =M12+M22+M30 -> 1.0188407e+08 | N31: =N12+N22+N30 -> 6.7072951e+08 | ... Q31: =Q12+Q22+Q30 -> 32490963
K35: Kosto Korente | L35: Kosto Kapitale | M35: Totali
G36: Kosto totale e PV | H36: =I31 -> 3.1256307e+09 | J36: Qëllimi i Politikës I | K36: =G12 -> 1.1827305e+09 | L36: =H12 -> 6.7072951e+08 | M36: =K36+L36 -> 1.85346e+09
G37: PBA 2026-2028 | H37: =L31 -> 2353017100 | J37: Qëllimi i Politikës II | K37: =G22 -> 1095740398 | L37: =H22 -> 170740000 | M37: =K37+L37 -> 1266480398
G38: Financim i huaj | H38: =O31 -> 7.7261358e+08 | J38: Qëllimi i Politikës III | K38: =G30 -> 5690322 | L38: =H30 -> 0 | M38: =K38+L38 -> 5690322
G39: Hendek financiar 2026-2027 | H39: =H36-H37-H38 -> 0
G42: Kosto Korente | H42: =G31 -> 2.2841612e+09
G43: Kosto kapitale | H43: =H31 -> 8.4146951e+08
G44: Total kosto | H44: =I31 -> 3.1256307e+09

Sheet Nevojat Kapitale
A1: Kostoja financiare e SMIK (në Lek)
A2: Qëllimi i Politikës | B2: Tipologjia e kostove | C2: Kosto totale | D2: Kostot e Planifikuara | E2: Kosto e planifikuar ne | F2: Hendeku financiar
C3: 2026-2027 | D3: PBA 2026-2028 | E3: PBA 2026-2028 | F3: 2026-2027
D4: Buxheti | E4: Donatoret
A5: QP1: MBROJTJA E SIGURISË SË BRENDSHME DHE MENAXHIMI I FLUKSEVE MIGRATORE, ME QËLLIM PARANDALIMIN E MIGRACIONIT TË PARREGULLT, SI DHE PARANDALIMIN DHE GODITJEN E KRIMIT NDËRKUFITAR. | B5: Korente | C5: ='Qëllimi i Politikave'!G12 -> 1.1827305e+09 | D5: ='Qëllimi i Politikave'!J12 -> 1080846380 | E5: ='Qëllimi i Politikave'!M12 -> 1.0188407e+08 | F5: =(C5+C6)-(D5+D6)-(E5+E6) -> 0
B6: Kapitale | C6: ='Qëllimi i Politikave'!H12 -> 6.7072951e+08 | D6: ='Qëllimi i Politikave'!K12 -> 0 | E6: ='Qëllimi i Politikave'!N12 -> 6.7072951e+08
A7: QP2: LEHTËSIMI I QARKULLIMIT LEGAL TË SHTETASVE DHE MALLRAVE. | B7: Korente | C7: ='Qëllimi i Politikave'!G22 -> 1095740398 | D7: ='Qëllimi i Politikave'!J22 -> 1095740398 | E7: ='Qëllimi i Politikave'!M22 -> 0 | F7: =(C7+C8)-(D7+D8)-(E7+E8) -> 0
B8: Kapitale | C8: ='Qëllimi i Politikave'!H22 -> 170740000 | D8: ='Qëllimi i Politikave'!K22 -> 170740000 | E8: ='Qëllimi i Politikave'!N22 -> 0
A9: QP3: RESPEKTIMI I PLOTË I TË DREJTAVE THEMELORE, PËRFSHIRË TRAJTIMIN E ÇDO INDIVIDI ME RESPEKT TË PLOTË PËR DINJITETIN DHE MUNDËSIMIN E QASJES NË MBROJTJEN NDËRKOMBËTARE TË ATYRE QË KANË NEVOJË. | B9: Korente | C9: ='Qëllimi i Politikave'!G30 -> 5690322 | D9: ='Qëllimi i Politikave'!J30 -> 5690322 | E9: ='Qëllimi i Politikave'!M30 -> 0 | F9: =(C9+C10)-(D9+D10)-(E9+E10) -> 0
B10: Kapitale | C10: ='Qëllimi i Politikave'!H30 -> 0 | D10: ='Qëllimi i Politikave'!K30 -> 0 | E10: ='Qëllimi i Politikave'!N30 -> 0
A11: TOTALI [Leke] | C11: =SUM(C5:C10) -> 3.1256307e+09 | D11: =SUM(D5:D10) -> 2353017100 | E11: =SUM(E5:E10) -> 7.7261358e+08 | F11: =SUM(F5:F10) -> 0
A12: TOTALI [Euro] | C12: =C11/96.2 -> 32490963 | D12: =D11/96.2 -> 24459637 | E12: =E11/96.2 -> 8031326.2 | F12: =F11/96.2 -> 0
A13: 1 euro = 96.2 Lekë

Sheet Grafiku-Kostot
